BEGIN:VCALENDAR
VERSION:2.0
PRODID:-//wp-events-plugin.com//7.2.3.1//EN
TZID:Europe/Berlin
X-WR-TIMEZONE:Europe/Berlin
BEGIN:VEVENT
UID:1760@plantsch.de
DTSTART;TZID=Europe/Berlin:20251006T124500
DTEND;TZID=Europe/Berlin:20251006T130000
DTSTAMP:20250122T195036Z
URL:https://www.plantsch.de/veranstaltungen/traum-und-duftreise-im-saunala
 nd-2-2025-10-06/
SUMMARY:Traum- und Duftreise im Saunaland
DESCRIPTION:ACHTUNG: Dieser Termin findet nur statt\, wenn die Revisionssch
 ließzeit vorzeitig abgeschlossen werden kann! Voraussichtlich wird die Ba
 dewelt jedoch erst am 11.Oktober wieder geöffnet!\nAlle zwei Wochen nehme
 n wir Sie am Montag und Mittwoch um 12:45 Uhr mit auf eine ganz besondere 
 Erlebnisreise:\nEine geführte Traum- und Duftreise durch die Welt des Dus
 chens\, Salzens und Saunierens mit besonderem Dufterlebnis\, verbunden mit
  Musik und Erzählungen zur jeweiligen Reisestation\, Dufttuch und natürl
 ich mit\njeweils passender „Darreichung“. Eine „Guided-Tour“ zur i
 nneren Entspannung\, der sich niemand entziehen kann.\nDieses Angebot ist 
 im Eintritt bereits enthalten.
ATTACH;FMTTYPE=image/jpeg:https://www.plantsch.de/wp-content/uploads/2020/
 04/duftreise.jpg
CATEGORIES:Erwachsene,Saunaveranstaltung,Senioren,Wellness
END:VEVENT
BEGIN:VTIMEZONE
TZID:Europe/Berlin
X-LIC-LOCATION:Europe/Berlin
BEGIN:DAYLIGHT
DTSTART:20250330T030000
TZOFFSETFROM:+0100
TZOFFSETTO:+0200
TZNAME:CEST
END:DAYLIGHT
END:VTIMEZONE
END:VCALENDAR