BEGIN:VCALENDAR
VERSION:2.0
PRODID:-//wp-events-plugin.com//7.2.3.1//EN
TZID:Europe/Berlin
X-WR-TIMEZONE:Europe/Berlin
BEGIN:VEVENT
UID:2394@plantsch.de
DTSTART;TZID=Europe/Berlin:20260126T140000
DTEND;TZID=Europe/Berlin:20260131T144500
DTSTAMP:20260409T142224Z
URL:https://www.plantsch.de/veranstaltungen/test-nicht-buchenanmeldung-ab-
 sofort-moeglich/
SUMMARY:TEST - nicht buchenAnmeldung ab sofort möglich!
DESCRIPTION:Informationen zu Kinderschschwimmkursen:\nDer Kinderschwimmkurs
  ist ein SCHWIMM-LERN-KURS für Kinder ab dem Mindestalter 5 Jahre\, kein 
 "Wassergewöhnungskurs".\nDie Kurse finden jeweils an 2 Werktagen pro Woch
 e (ausserhalb von Ferienzeiten und Feiertagen) von 14:00 - 14:45 Uhr statt
  (entweder Montag + Mittwoch oder Dienstag + Donnerstag).\nEine Kursreihe 
 umfasst 11 Einheiten + ggf. 1 Kulanzeinheit. I.d.R. leiten 2 Schwimmlehrer
  den Kurs mit maximal 10 Kindern.\n\nKursziel ist bei erfolgreicher Teilna
 hme (ohne Garantie!) das "Seepferdchen-Abzeichen" (Sprung vom Beckenrand m
 it 25m technikgerechtem Schwimmen\, Heraufholen eines Tauchringes mit den 
 Händen aus schultertiefem Wasser).\n\nVORRAUSSETZUNGEN:\n\nIhr Kind muss 
 am Anmeldetag mindestens den 5. Geburtstag erreicht haben und bereits zu 1
 00% wassergewöhnt sein. Das bedeutet\, es darf keine Angst vor dem Wasser
  haben\, freiwillig hineinspringen können und mit dem Kopf unter Wasser t
 auchen können.\n-\nStornierung ist nur in Ausnahmefällen möglich. Eine 
 Kostenerstattung erfolgt nur\, sofern der Kursplatz anderweitig vergeben w
 erden kann und die Kursgebühr vom Ersatzteilnehmer bezahlt wurde-\n-Die v
 om Landratsamt/Schulen/Freistaat ausgegebenen 50€-Gutscheine können fü
 r die Schwimmkurse im Plantsch NICHT eingelöst werden-
ATTACH;FMTTYPE=image/jpeg:https://www.plantsch.de/wp-content/uploads/2020/
 03/seepferdchen-scaled-e1584708207302.jpg
CATEGORIES:Badveranstaltung,Kursplan
END:VEVENT
BEGIN:VTIMEZONE
TZID:Europe/Berlin
X-LIC-LOCATION:Europe/Berlin
BEGIN:STANDARD
DTSTART:20251026T020000
TZOFFSETFROM:+0200
TZOFFSETTO:+0100
TZNAME:CET
END:STANDARD
END:VTIMEZONE
END:VCALENDAR