BEGIN:VCALENDAR
VERSION:2.0
PRODID:-//wp-events-plugin.com//7.2.3.1//EN
TZID:Europe/Berlin
X-WR-TIMEZONE:Europe/Berlin
BEGIN:VEVENT
UID:2400@plantsch.de
DTSTART;TZID=Europe/Berlin:20260510T090000
DTEND;TZID=Europe/Berlin:20260510T220000
DTSTAMP:20260203T142246Z
URL:https://www.plantsch.de/veranstaltungen/muttertag-im-plantsch-10-mai-d
 anke-mama/
SUMMARY:Muttertag im Plantsch (10.Mai) - Danke Mama!
DESCRIPTION:
ATTACH;FMTTYPE=image/jpeg:https://www.plantsch.de/wp-content/uploads/2024/
 03/muttertag-im-plantsch.jpg
CATEGORIES:Bad- &amp;
 Saunaveranstaltung,Badveranstaltung,Erwachsene,Saunaveranstaltung,Senioren
 ,Wellness
END:VEVENT
BEGIN:VTIMEZONE
TZID:Europe/Berlin
X-LIC-LOCATION:Europe/Berlin
BEGIN:DAYLIGHT
DTSTART:20260329T030000
TZOFFSETFROM:+0100
TZOFFSETTO:+0200
TZNAME:CEST
END:DAYLIGHT
END:VTIMEZONE
END:VCALENDAR