BEGIN:VCALENDAR
VERSION:2.0
PRODID:-//wp-events-plugin.com//7.2.3.1//EN
TZID:Europe/Berlin
X-WR-TIMEZONE:Europe/Berlin
BEGIN:VEVENT
UID:2062@plantsch.de
DTSTART;TZID=Europe/Berlin:20260103T140000
DTEND;TZID=Europe/Berlin:20260103T160000
DTSTAMP:20251030T170508Z
URL:https://www.plantsch.de/veranstaltungen/fundsachen-flohmarkt-am-samsta
 g-3-januar-14-16-uhr/
SUMMARY:Fundsachen - Flohmarkt am Samstag\, 3. Januar 14-16 Uhr
DESCRIPTION:Leider vergessen viele Besucher mitgebrachte Dinge. Obwohl wir 
 sämtliche Fundstücke reinigen und sortiert aufheben\, werden Handtücher
 \, Bademoden\, Schuhe\, Schwimmbrillen\, Spielzeuge\, Schmuck usw. all zu 
 oft nicht abgeholt.\nAlles aufzuheben ist unmöglich\, darum verkaufen wir
  nicht Abgeholtes ab 1€ / Stück. Die Einnahmen fließen in neue Badattr
 aktionen.\nHINWEIS: Sie haben bei uns etwas verloren? Bitte\nnutzen Sie da
 s Fundsachen-Suchformular auf unserer Internetseite im Downloadbereich! \n
 \n
ATTACH;FMTTYPE=image/jpeg:https://www.plantsch.de/wp-content/uploads/2025/
 10/flohmarkt-plantsch.jpg
CATEGORIES:Bad- &amp; Saunaveranstaltung,Erwachsene,Kinder und
 Jugendliche,Senioren
END:VEVENT
BEGIN:VTIMEZONE
TZID:Europe/Berlin
X-LIC-LOCATION:Europe/Berlin
BEGIN:STANDARD
DTSTART:20251026T020000
TZOFFSETFROM:+0200
TZOFFSETTO:+0100
TZNAME:CET
END:STANDARD
END:VTIMEZONE
END:VCALENDAR