BEGIN:VCALENDAR
VERSION:2.0
PRODID:-//wp-events-plugin.com//7.2.3.1//EN
TZID:Europe/Berlin
X-WR-TIMEZONE:Europe/Berlin
BEGIN:VEVENT
UID:1589@plantsch.de
DTSTART;TZID=Europe/Berlin:20230818T140000
DTEND;TZID=Europe/Berlin:20230818T160000
DTSTAMP:20230717T132857Z
URL:https://www.plantsch.de/veranstaltungen/fundsachen-flohmarkt-am-freita
 g-18-august-14-16-uhr/
SUMMARY:Fundsachen - Flohmarkt am Freitag\, 18. August 14-16 Uhr
DESCRIPTION:Leider vergessen viele Besucher mitgebrachte Dinge. Obwohl wir 
 sämtliche Fundstücke reinigen und sortiert aufheben\, werden Handtücher
 \, Bademoden\, Schuhe\, Schwimmbrillen\, Spielzeuge\, Schmuck usw. all zu 
 oft nicht abgeholt.\nAlles aufzuheben ist unmöglich\, darum verkaufen wir
  nicht Abgeholtes ab 1€ / Stück. Die Einnahmen fließen in neue Badattr
 aktionen.\nHINWEIS: Sie haben bei uns etwas verloren? Bitte\nnutzen Sie da
 s Fundsachen-Suchformular auf unserer Internetseite im Downloadbereich! 
ATTACH;FMTTYPE=image/jpeg:https://www.plantsch.de/wp-content/uploads/2020/
 04/flohmarktlogo.gif
CATEGORIES:Bad- &amp; Saunaveranstaltung,Erwachsene,Kinder und
 Jugendliche,Senioren
END:VEVENT
BEGIN:VTIMEZONE
TZID:Europe/Berlin
X-LIC-LOCATION:Europe/Berlin
BEGIN:DAYLIGHT
DTSTART:20230326T030000
TZOFFSETFROM:+0100
TZOFFSETTO:+0200
TZNAME:CEST
END:DAYLIGHT
END:VTIMEZONE
END:VCALENDAR