BEGIN:VCALENDAR
VERSION:2.0
PRODID:-//wp-events-plugin.com//7.2.3.1//EN
TZID:Europe/Berlin
X-WR-TIMEZONE:Europe/Berlin
BEGIN:VEVENT
UID:2443@plantsch.de
DTSTART;TZID=Europe/Berlin:20260718T130000
DTEND;TZID=Europe/Berlin:20260718T180000
DTSTAMP:20260425T091632Z
URL:https://www.plantsch.de/veranstaltungen/familien-sommerfest-im-plantsc
 h-am-18-juli/
SUMMARY:Familien-SOMMERFEST im Plantsch am 18. Juli
DESCRIPTION:🎉 Plantsch Sommerspaß – 25 Jahre Familienfreude\nSamstag\
 , 18. Juli 2026 · 13:00–18:00 Uhr (Bei schlechtem Wetter: Sonntag\, 19.
  Juli · Alternativ Indoor-Programm)\nDas Plantsch feiert seinen 25. Gebur
 tstag – und ganz Schongau feiert mit. Beim großen Jubiläums-Sommerfest
  erwartet die Besucher ein buntes Programm voller Action\, Wasser\, Spiel 
 und Genuss. Perfekt für Familien\, Kinder\, Jugendliche und alle\, die da
 s Plantsch seit Jahren begleiten.\n🌊 geplante Highlights &amp\; Attrakt
 ionen\n\n\nWasserspiele &amp\; Actionmodule Mit Hüpfburg und vielen Plant
 sch-Wasserspielen.\n\n\nSpielstationen für Kinder Wassertisch\, Fische an
 geln\, Wassertragen\, Torwand und mehr.\n\n\nSportliche Challenges Fußbal
 l-Speed-Schuss-Messanlage und weitere Überraschungen.\n\n\nKartbahn für 
 Kinder und Jugendliche von 6–21 Jahren.\n\n\nlokale Vereine Mit spannend
 en Mitmachaktionen und Attraktionen.\n\n\n🍰🍔 Für das leibliche Wohl
 \n\n\nKaffee- &amp\; Kuchenverkauf zugunsten des Vereins "Rapid Lechrain"\
 n\n\nGrillstation mit Würsten &amp\; Fleisch über die Poolbar\n\n\n📍 
 Ort\nPlantsch Schongau – Außenbereich &amp\; Schwimmhalle (bei schlecht
 em Wetter)
ATTACH;FMTTYPE=image/jpeg:https://www.plantsch.de/wp-content/uploads/2020/
 02/plantsch-0066-scaled-e1584707609245.jpg
CATEGORIES:Badveranstaltung,Erwachsene,Freiluftaktion,Kinder und
 Jugendliche,Senioren
END:VEVENT
BEGIN:VTIMEZONE
TZID:Europe/Berlin
X-LIC-LOCATION:Europe/Berlin
BEGIN:DAYLIGHT
DTSTART:20260329T030000
TZOFFSETFROM:+0100
TZOFFSETTO:+0200
TZNAME:CEST
END:DAYLIGHT
END:VTIMEZONE
END:VCALENDAR