BEGIN:VCALENDAR
VERSION:2.0
PRODID:-//wp-events-plugin.com//7.2.3.1//EN
TZID:Europe/Berlin
X-WR-TIMEZONE:Europe/Berlin
BEGIN:VEVENT
UID:1575@plantsch.de
DTSTART;TZID=Europe/Berlin:20230518T100000
DTEND;TZID=Europe/Berlin:20230518T214500
DTSTAMP:20230515T115145Z
URL:https://www.plantsch.de/veranstaltungen/donnerstag-18-mai-vatertag-im-
 plantsch/
SUMMARY:Donnerstag\, 18.Mai: VATERTAG im Plantsch
DESCRIPTION:\n\n&nbsp\;\n\n&nbsp\;
ATTACH;FMTTYPE=image/jpeg:https://www.plantsch.de/wp-content/uploads/2023/
 05/vatertag-2023.jpg
CATEGORIES:Erwachsene,Saunaveranstaltung,Senioren,Wellness
END:VEVENT
BEGIN:VTIMEZONE
TZID:Europe/Berlin
X-LIC-LOCATION:Europe/Berlin
BEGIN:DAYLIGHT
DTSTART:20230326T030000
TZOFFSETFROM:+0100
TZOFFSETTO:+0200
TZNAME:CEST
END:DAYLIGHT
END:VTIMEZONE
END:VCALENDAR