BEGIN:VCALENDAR
VERSION:2.0
PRODID:-//wp-events-plugin.com//7.2.3.1//EN
TZID:Europe/Berlin
X-WR-TIMEZONE:Europe/Berlin
BEGIN:VEVENT
UID:2403@plantsch.de
DTSTART;TZID=Europe/Berlin:20260725T090000
DTEND;TZID=Europe/Berlin:20260725T150000
DTSTAMP:20260312T162216Z
URL:https://www.plantsch.de/veranstaltungen/5-schongauer-entenrennen-im-pl
 antsch-am-25-juli/
SUMMARY:5. Schongauer Entenrennen im Plantsch am 25. Juli
DESCRIPTION:Im Jahr 2026 wird wieder um die Wette "gequakt"!Zum fünften Ma
 l veranstaltet der Rotary-Club in Zusammenarbeit mit der Freiwilligen Feue
 rwehr Schongau und vielen fleißigen Helfern im Plantsch das "Schongauer E
 ntenrennen".Wer hat die schönste und wer die schnellste Badeente? Wir mac
 hen den Test!Nummerierte Teilnahme-Enten werden im Vorverkauf ausgegeben.W
 er möchte kann seine Ente verzieren\, denn die SCHÖNSTENENTEN werden ber
 eits vor dem Rennen ausgezeichnet.Dann geht´s ab 12 Uhr in mehreren Vor- 
 und einem Finallauf los:Welche Ente hat den höchsten “Speed” auf dem 
 über 100 Meterlangen Race-Parcour durchs Freibad?Die Freiwillige Feuerweh
 r und der Rotary Club Schongau haltendie Enten im Rennen und verkaufen am 
 Rande der RennstreckeCrepes\, Grillfleisch und Getränke.Zahlende Bad- &am
 p\; Saunagäste des Plantsch ohne Rennente dürfendem Spektakel auch ohne 
 Ente zusehen\, alle anderen könnendurch den Kauf einer Renn-Ente von 9 - 
 15 Uhr ins Freibadeintreten\, mitmachen und zusehen. Am Ende der Veranstal
 tungist das Plantsch von Besuchern ohne regulären Tageseintritt zu verlas
 sen\,sonst wird am Auslass automatisch ein Tagestarif nacherhoben.Infos:Te
 ilnehmer-Enten kosten 5€ und sind erhältlich bei:Plantsch\, SchongauSpr
 enger´s Sportland\, SchongauBeer Immobilien\, SchongauAutohaus Resch\, Pe
 itingZeitplan Entenrennen 25.07.2026:09:00 bis 11:30 Uhr   Einlass und A
 bgabe der Enten im Freibad12:00  bis 12:30Uhr   Prämierung der schöns
 ten Enten12:30 bis 14:00 Uhr   mehrere Vorläufe14:00 Uhr          
          Endlauf der 200 schnellsten Enten14:30 Uhr            
        Siegerehrung und PreisverleihungEnde der VeranstaltungPreise:Di
 e schnellsten und die schönsten Enten erhaltenjeweils Sachpreise.Der Rein
 erlös wird zu 100% an sozial Bedürftige in unsererRegion gespendet.
ATTACH;FMTTYPE=image/jpeg:https://www.plantsch.de/wp-content/uploads/2022/
 04/entenimpression.jpg
CATEGORIES:Badveranstaltung,Erwachsene,Freiluftaktion,Kinder und
 Jugendliche,Senioren
END:VEVENT
BEGIN:VTIMEZONE
TZID:Europe/Berlin
X-LIC-LOCATION:Europe/Berlin
BEGIN:DAYLIGHT
DTSTART:20260329T030000
TZOFFSETFROM:+0100
TZOFFSETTO:+0200
TZNAME:CEST
END:DAYLIGHT
END:VTIMEZONE
END:VCALENDAR