BEGIN:VCALENDAR
VERSION:2.0
PRODID:-//wp-events-plugin.com//7.2.3.1//EN
TZID:Europe/Berlin
X-WR-TIMEZONE:Europe/Berlin
BEGIN:VEVENT
UID:2402@plantsch.de
DTSTART;TZID=Europe/Berlin:20260704T180000
DTEND;TZID=Europe/Berlin:20260705T030000
DTSTAMP:20260311T160841Z
URL:https://www.plantsch.de/veranstaltungen/4-juli-poolparty-die-vierzehnt
 e-18-3-uhr-made-by-fa-schongau/
SUMMARY:4.Juli: Poolparty "die Fünfzehnte: 18-3 Uhr!"- made by FA Schongau
DESCRIPTION:\nACHTUNG - HINWEIS ZUM BADBETRIEB:\nUm 18 Uhr startet der Einl
 ass zur Poolparty - DER BADEBETRIEB IN FREIBAD UND BADEWELT ENDET AN DIESE
 M TAG BEREITS UM 17 Uhr!! Der Saunabetrieb geht bis 22 Uhr weiter\, eine N
 utzung der Schwimmhalle ist aber auch für Saunagäste nicht möglich.\n\n
 Im 17. Jahr der „einzig wahren Poolparty“ lädt die FA Schongau zum f
 ünfzehnten Mal mit einigen Besonderheiten zur  langen Partynacht ein: am
  4.Juli (einen Ausweichtermin gibt es nicht!) startet der Abend um 18Uhr m
 it drei bekannten DJ´s aus der Region und Ingolstadt!\nEinlass für mind
 estens 16-Jährige (Mit sog. "Muttizettel" bis Ende der Veranstaltung - 3
  Uhr - erlaubt).\nBevor ihr unsere einmalige Tanzfläche rockt könnt ih
 r zu einer Shisha einen leckeren Cocktail genießen oder euch bei kultigen
  Attraktionen wie Bierpong vergnügen. Zwischendurch könnt ihr euch mit
  euren Freuden mit unserer Fotobox verewigen. Das Warmwasser-Becken und di
 e Außen-Rutsche stehen ebenfalls zur Benutzung zur Verfügung - Umkleidek
 abinen und Spinde sind verfügbar.\nDer Eintritt zur Poolparty kostet bis 
 21 Uhr 10€ an der Abendkasse\, danach 16€ für die Vereinskasse der F
 ußballer. Vorverkauf gibts nicht. Bitte beachtet\, dass der reguläre Ba
 debetrieb am Veranstaltungstag um 17:00 Uhr endet und alle Badegäste ü
 ber die Kassenschalter auschecken müssen. Saunagäste können im Sauna
 land bis 22 Uhr weiter saunieren\, haben aber keinen Zugang zum Partygela
 ̈nde im Freibad und müssen ab 18 Uhr mit Beeinträchtigung durch Musi
 k rechnen.\n 
ATTACH;FMTTYPE=image/jpeg:https://www.plantsch.de/wp-content/uploads/2026/
 03/poolparty-flyer-2026.jpg
CATEGORIES:Badveranstaltung,Erwachsene,Freiluftaktion
END:VEVENT
BEGIN:VTIMEZONE
TZID:Europe/Berlin
X-LIC-LOCATION:Europe/Berlin
BEGIN:DAYLIGHT
DTSTART:20260329T030000
TZOFFSETFROM:+0100
TZOFFSETTO:+0200
TZNAME:CEST
END:DAYLIGHT
END:VTIMEZONE
END:VCALENDAR