BEGIN:VCALENDAR
VERSION:2.0
PRODID:-//wp-events-plugin.com//7.2.3.1//EN
TZID:Europe/Berlin
X-WR-TIMEZONE:Europe/Berlin
BEGIN:VEVENT
UID:1595@plantsch.de
DTSTART;TZID=Europe/Berlin:20231230T194500
DTEND;TZID=Europe/Berlin:20231230T230000
DTSTAMP:20230905T104213Z
URL:https://www.plantsch.de/veranstaltungen/30-dezember-silvesterknaller-v
 ollmond-saunanacht-mit-langer-oeffnungszeit-bis-23-uhr/
SUMMARY:30.Dezember = "Silvesterknaller" Vollmond-Saunanacht - mit langer 
 Öffnungszeit bis 23 Uhr
DESCRIPTION:Stets am Samstag\, der dem Vollmond am nächsten liegt\, verlä
 ngern wir die Saunanacht bis 23 Uhr und machen sie zu einem besonderen Erl
 ebnis.\nGastronomie und Saunameister zaubern für Sie Dinge aus dem Hut\, 
 damit dieser Abend besonders „wohl tut“. Besondere kulinarische Schman
 kerl\, Kostüme\, Deko\, neue Duftmischungen und Aufgussformen\, Duftreise
 n\, Feuereffekte\, Videoinstallationen oder Diashows und mehr bereichern d
 iesen Abend. Termingleich findet ab 20 Uhr FKK in der Badewelt statt\, tex
 tilfrei - außer im Restaurantbereich - ist im Badbereich während der Ver
 anstaltungsdauer obligatorisch!
ATTACH;FMTTYPE=image/jpeg:https://www.plantsch.de/wp-content/uploads/2023/
 09/silvester.jpg
CATEGORIES:Erwachsene,Saunaveranstaltung,Senioren,Wellness
END:VEVENT
BEGIN:VTIMEZONE
TZID:Europe/Berlin
X-LIC-LOCATION:Europe/Berlin
BEGIN:STANDARD
DTSTART:20231029T020000
TZOFFSETFROM:+0200
TZOFFSETTO:+0100
TZNAME:CET
END:STANDARD
END:VTIMEZONE
END:VCALENDAR