BEGIN:VCALENDAR
VERSION:2.0
PRODID:-//wp-events-plugin.com//7.2.3.1//EN
TZID:Europe/Berlin
X-WR-TIMEZONE:Europe/Berlin
BEGIN:VEVENT
UID:1593@plantsch.de
DTSTART;TZID=Europe/Berlin:20231028T194500
DTEND;TZID=Europe/Berlin:20231028T230000
DTSTAMP:20231024T113050Z
URL:https://www.plantsch.de/veranstaltungen/28-oktober-halloween-vollmond-
 saunanacht-mit-langer-oeffnungszeit-bis-23-uhr/
SUMMARY:ENTFÄLLT LEIDER -- 28.Oktober = "Halloween" Vollmond-Saunanacht - 
 mit langer Öffnungszeit bis 23 Uhr
DESCRIPTION:LEIDER IST UNSERE PANORAMASAUNA NOCH NICHT FERTIGGESTELLT - Dah
 er müssen wir diesen Vollmond-Saunatermin schweren Herzens absagen!\nDie 
 FKK-Badenacht findet aber statt\, Badewelt und Saunaland sind bis 23 Uhr g
 eöffnet.\nStets am Samstag\, der dem Vollmond am nächsten liegt\, verlä
 ngern wir die Saunanacht bis 23 Uhr und machen sie zu einem besonderen Erl
 ebnis.\nGastronomie und Saunameister zaubern für Sie Dinge aus dem Hut\, 
 damit dieser Abend besonders „wohl tut“. Besondere kulinarische Schman
 kerl\, Kostüme\, Deko\, neue Duftmischungen und Aufgussformen\, Duftreise
 n\, Feuereffekte\, Videoinstallationen oder Diashows und mehr bereichern d
 iesen Abend. Termingleich findet ab 20 Uhr FKK in der Badewelt statt\, tex
 tilfrei - außer im Restaurantbereich - ist im Badbereich während der Ver
 anstaltungsdauer obligatorisch!
ATTACH;FMTTYPE=image/jpeg:https://www.plantsch.de/wp-content/uploads/2023/
 09/halloween.jpg
CATEGORIES:Erwachsene,Saunaveranstaltung,Senioren,Wellness
END:VEVENT
BEGIN:VTIMEZONE
TZID:Europe/Berlin
X-LIC-LOCATION:Europe/Berlin
BEGIN:DAYLIGHT
DTSTART:20230326T030000
TZOFFSETFROM:+0100
TZOFFSETTO:+0200
TZNAME:CEST
END:DAYLIGHT
END:VTIMEZONE
END:VCALENDAR