BEGIN:VCALENDAR
VERSION:2.0
PRODID:-//wp-events-plugin.com//7.2.3.1//EN
TZID:Europe/Berlin
X-WR-TIMEZONE:Europe/Berlin
BEGIN:VEVENT
UID:2405@plantsch.de
DTSTART;TZID=Europe/Berlin:20260912T140000
DTEND;TZID=Europe/Berlin:20260912T160000
DTSTAMP:20260205T122111Z
URL:https://www.plantsch.de/veranstaltungen/12-sept-fundsachen-flohmarkt/
SUMMARY:12. Sept.: Fundsachen-Flohmarkt
DESCRIPTION:\nLeider vergessen viele Besucher mitgebrachte Dinge. Obwohl wi
 r sämtliche Fundstücke reinigen und sortiert aufheben\, werden Handtüch
 er\, Bademoden\, Schuhe\, Schwimmbrillen\, Spielzeuge\, Schmuck usw. all z
 u oft nicht abgeholt.\nAlles über die Aufbewahrungsfrist hinaus aufzuhebe
 n ist unmöglich\, darum verkaufen wir diese Gegenstände ab 1€ / Stück
 .\nHINWEIS: Sie haben bei uns etwas verloren?\nBitte nutzen Sie das Fundsa
 chen-Suchformular !
ATTACH;FMTTYPE=image/jpeg:https://www.plantsch.de/wp-content/uploads/2026/
 02/flohmarkt-plantsch-1024-x-768-px-600-x-600-px.jpg
CATEGORIES:Badveranstaltung,Erwachsene,Kinder und Jugendliche
END:VEVENT
BEGIN:VTIMEZONE
TZID:Europe/Berlin
X-LIC-LOCATION:Europe/Berlin
BEGIN:DAYLIGHT
DTSTART:20260329T030000
TZOFFSETFROM:+0100
TZOFFSETTO:+0200
TZNAME:CEST
END:DAYLIGHT
END:VTIMEZONE
END:VCALENDAR