BEGIN:VCALENDAR
VERSION:2.0
PRODID:-//wp-events-plugin.com//7.2.3.1//EN
TZID:Europe/Berlin
X-WR-TIMEZONE:Europe/Berlin
BEGIN:VEVENT
UID:1562@plantsch.de
DTSTART:20230701T190000Z
DTEND:20230701T210000Z
DTSTAMP:20230411T123936Z
URL:https://www.plantsch.de/veranstaltungen/1-juli-diesmal-keine-fkk-baden
 acht-mit-lampion-schwimmen-wegen-poolparty/
SUMMARY:1. Juli: DIESMAL KEINE FKK-Badenacht mit "Lampion-Schwimmen" (wegen
  Poolparty)
DESCRIPTION:ZUM TERMIN IM JULI FINDET KEINE VOLLMONDSAUNA UND AUCH KEIN FKK
 -ABEND STATT!!\n\nGrund ist die gleichzeitig stattfindende Poolparty\, fü
 r die wir alle Kapazitäten und Flächen benötigen bzw. die nicht miteina
 nder kollidieren dürfen.\n\nDer nächste reguläre FKK-Termin findet am 5
 . August statt.\n\nAufgrund der Sanierungsarbeiten im Saunaland-NEUBAU kan
 n die nächste reguläre Vollmond-Saunanacht leider erst im Oktober stattf
 inden.
ATTACH;FMTTYPE=image/jpeg:https://www.plantsch.de/wp-content/uploads/2022/
 11/04891f2d-88cf-48f0-8fef-fda391c71804.jpg
CATEGORIES:Badveranstaltung,Erwachsene,Kinder und
 Jugendliche,Saunaveranstaltung,Senioren,Wellness
END:VEVENT
END:VCALENDAR